BEGIN:VCALENDAR
VERSION:2.0
PRODID:-//Disability Rights Maine - ECPv6.15.20//NONSGML v1.0//EN
CALSCALE:GREGORIAN
METHOD:PUBLISH
X-ORIGINAL-URL:https://drme.org
X-WR-CALDESC:Events for Disability Rights Maine
REFRESH-INTERVAL;VALUE=DURATION:PT1H
X-Robots-Tag:noindex
X-PUBLISHED-TTL:PT1H
BEGIN:VTIMEZONE
TZID:America/New_York
BEGIN:DAYLIGHT
TZOFFSETFROM:-0500
TZOFFSETTO:-0400
TZNAME:EDT
DTSTART:20250309T070000
END:DAYLIGHT
BEGIN:STANDARD
TZOFFSETFROM:-0400
TZOFFSETTO:-0500
TZNAME:EST
DTSTART:20251102T060000
END:STANDARD
BEGIN:DAYLIGHT
TZOFFSETFROM:-0500
TZOFFSETTO:-0400
TZNAME:EDT
DTSTART:20260308T070000
END:DAYLIGHT
BEGIN:STANDARD
TZOFFSETFROM:-0400
TZOFFSETTO:-0500
TZNAME:EST
DTSTART:20261101T060000
END:STANDARD
BEGIN:DAYLIGHT
TZOFFSETFROM:-0500
TZOFFSETTO:-0400
TZNAME:EDT
DTSTART:20270314T070000
END:DAYLIGHT
BEGIN:STANDARD
TZOFFSETFROM:-0400
TZOFFSETTO:-0500
TZNAME:EST
DTSTART:20271107T060000
END:STANDARD
END:VTIMEZONE
BEGIN:VEVENT
DTSTART;TZID=America/New_York:20260304T120000
DTEND;TZID=America/New_York:20260304T130000
DTSTAMP:20260420T065437
CREATED:20260223T214600Z
LAST-MODIFIED:20260226T212513Z
UID:3974-1772625600-1772629200@drme.org
SUMMARY:Alpha One Webinar
DESCRIPTION:Alpha One\, Maine’s Center for Independent Living (CIL)\, empowers individuals with disabilities to live independently and take control over their lives and environments. Alpha One advocates that all people with a disability have a right to self-determination and dignity\, to contribute and participate in their community\, and to achieve their full individual potential with equal access to all aspects of Maine life. Services and programs include Adaptive Driving Evaluations\, scholarships for continuing education\, peer support services\, and Youth Transition programs in participating schools. To this end\, Alpha One provides Independent Living services and programs Statewide in all 16 counties. Join Katie George to learn more! \nRegister below and contact Dylan\, dcampbell@mpf.org for more information. \nhttps://us02web.zoom.us/webinar/register/WN_eZI2vj3XQ22Gz8HbFgUBvQ
URL:https://drme.org/event/alpha-one-webinar-032026/
LOCATION:Zoom
CATEGORIES:Community Inclusion,Deaf Services,Employment,Youth Self-Advocacy
END:VEVENT
END:VCALENDAR